BEGIN:VCALENDAR
VERSION:2.0
PRODID:-//Rising Sun Vineyard - ECPv6.15.17.1//NONSGML v1.0//EN
CALSCALE:GREGORIAN
METHOD:PUBLISH
X-WR-CALNAME:Rising Sun Vineyard
X-ORIGINAL-URL:https://www.risingsunvineyard.com
X-WR-CALDESC:Events for Rising Sun Vineyard
REFRESH-INTERVAL;VALUE=DURATION:PT1H
X-Robots-Tag:noindex
X-PUBLISHED-TTL:PT1H
BEGIN:VTIMEZONE
TZID:America/Chicago
BEGIN:DAYLIGHT
TZOFFSETFROM:-0600
TZOFFSETTO:-0500
TZNAME:CDT
DTSTART:20220313T080000
END:DAYLIGHT
BEGIN:STANDARD
TZOFFSETFROM:-0500
TZOFFSETTO:-0600
TZNAME:CST
DTSTART:20221106T070000
END:STANDARD
BEGIN:DAYLIGHT
TZOFFSETFROM:-0600
TZOFFSETTO:-0500
TZNAME:CDT
DTSTART:20230312T080000
END:DAYLIGHT
BEGIN:STANDARD
TZOFFSETFROM:-0500
TZOFFSETTO:-0600
TZNAME:CST
DTSTART:20231105T070000
END:STANDARD
BEGIN:DAYLIGHT
TZOFFSETFROM:-0600
TZOFFSETTO:-0500
TZNAME:CDT
DTSTART:20240310T080000
END:DAYLIGHT
BEGIN:STANDARD
TZOFFSETFROM:-0500
TZOFFSETTO:-0600
TZNAME:CST
DTSTART:20241103T070000
END:STANDARD
END:VTIMEZONE
BEGIN:VEVENT
DTSTART;TZID=America/Chicago:20231224T120000
DTEND;TZID=America/Chicago:20231224T210000
DTSTAMP:20260419T085054
CREATED:20231125T212006Z
LAST-MODIFIED:20231216T201623Z
UID:1519-1703419200-1703451600@www.risingsunvineyard.com
SUMMARY:Open Christmas Eve - Wine Bottle Sales Only
DESCRIPTION:Need to grab the perfect bottle for your Christmas dinner? The winery will be open Christmas Eve for wine bottle sales only.  \nWe will not have live music and our kitchen and brewery will be closed\, but we will be open for wine bottle sales.
URL:https://www.risingsunvineyard.com/event/open-christmas-eve-saturday-december-24th-12-9pm/
LOCATION:Rising Sun Vineyard\, 233 Edmonson Ranch Road\, McDade\, TX\, 78650\, United States
ATTACH;FMTTYPE=image/jpeg:https://www.risingsunvineyard.com/wp-content/uploads/2023/11/christmas_wine.jpg
END:VEVENT
END:VCALENDAR